BEGIN:VCALENDAR
VERSION:2.0
PRODID:-//Squarespace Inc/Squarespace 6//v6//EN
BEGIN:VEVENT
UID:57e1cf11f7e0abedb4cb79a5@squarespace.com
DTSTAMP:20191029T213610Z
DTSTART:20191024T200000Z
DTEND:20200424T120000Z
SUMMARY:Yoga Classes
GEO:-26.321598;152.872652
LOCATION:the Habitiat Retreat\, 15 Sallwood Court\, Pinbarren\, QLD\, 4568\
 , Australia
END:VEVENT
END:VCALENDAR
