BEGIN:VCALENDAR
VERSION:2.0
PRODID:-//Squarespace Inc/Squarespace 6//v6//EN
BEGIN:VEVENT
UID:5799af9cf7e0ab03ddda43dd@squarespace.com
DTSTAMP:20170202T231129Z
DTSTART:20170204T143000Z
DTEND:20170225T153000Z
SUMMARY:Beginners Yoga Course - Saturdays 4 week course
GEO:-26.321598;152.872652
LOCATION:The Habitat Retreat\, 15 Sallwood Court\, Pinbarren\, QLD\, 4568\, 
 Australia
END:VEVENT
END:VCALENDAR
