BEGIN:VCALENDAR
VERSION:2.0
PRODID:-//Squarespace Inc/Squarespace 6//v6//EN
BEGIN:VEVENT
UID:579d554c579fb37b1a2d087c@squarespace.com
DTSTAMP:20180515T010843Z
DTSTART:20180526T220000Z
DTEND:20180527T000000Z
SUMMARY:Kirtan
GEO:-26.321598;152.872652
LOCATION:The Habitat Retreat\, 15 Sallwood Court\, Pinbarren\, QLD\, 4568\, 
 Australia
END:VEVENT
END:VCALENDAR
