BEGIN:VCALENDAR
VERSION:2.0
PRODID:-//Squarespace Inc/Squarespace 6//v6//EN
BEGIN:VEVENT
UID:586b0b1bbe6594727084fb2e@squarespace.com
DTSTAMP:20180515T014911Z
DTSTART:20180630T120000Z
DTEND:20180701T200000Z
SUMMARY:Winter Warmer Yoga Retreat with Grant Morrill
GEO:-26.321598;152.872652
LOCATION:The Habitat Retreat\, 15 Sallwood Court\, Pinbarren\, QLD\, 4568\, 
 Australia
END:VEVENT
END:VCALENDAR
