BEGIN:VCALENDAR
VERSION:2.0
PRODID:-//Squarespace Inc/Squarespace 6//v6//EN
BEGIN:VEVENT
UID:5893ba4f6b8f5b15d0e5770f@squarespace.com
DTSTAMP:20170525T000351Z
DTSTART:20170610T120000Z
DTEND:20170611T210000Z
SUMMARY:Yoga Retreat with Heather Kitchen
GEO:-26.321598;152.872652
LOCATION:The Habitat retreat\, 15 Sallwood Court\, Pinbarren\, QLD\, 4568\, 
 Australia
END:VEVENT
END:VCALENDAR
