BEGIN:VCALENDAR
VERSION:2.0
PRODID:-//Squarespace Inc/Squarespace 6//v6//EN
BEGIN:VEVENT
UID:58ddac2e3e00bec46a28cafe@squarespace.com
DTSTAMP:20170525T000455Z
DTSTART:20170617T110000Z
DTEND:20170618T180000Z
SUMMARY:Re-Ignite Retreat with Jennifer Cray and Suzie Whitfield
END:VEVENT
END:VCALENDAR
