BEGIN:VCALENDAR
VERSION:2.0
PRODID:-//Squarespace Inc/Squarespace 6//v6//EN
BEGIN:VEVENT
UID:5c22c0abb8a045b33ddaa1df@squarespace.com
DTSTAMP:20181225T235630Z
DTSTART:20181231T233000Z
DTEND:20190101T180000Z
SUMMARY:New Years Eve Celebration
GEO:-26.320899;152.870965
LOCATION:the habitat retreat\, 15 Sallwood Court\, Pinbarren\, QLD\, 4568\, 
 Australia
END:VEVENT
END:VCALENDAR
