BEGIN:VCALENDAR
VERSION:2.0
PRODID:-//Squarespace Inc/Squarespace 6//v6//EN
BEGIN:VEVENT
UID:5ac974de562fa799825fc57d@squarespace.com
DTSTAMP:20180408T020338Z
DTSTART:20180421T123000Z
DTEND:20180422T003000Z
SUMMARY:Day Retreat
GEO:-26.321598;152.872652
LOCATION:the habitat Retreat\, 15 Sallwood Court\, Pinbarren\, QLD\, 4568\, 
 Australia
END:VEVENT
END:VCALENDAR
