BEGIN:VCALENDAR
VERSION:2.0
PRODID:-//Squarespace Inc/Squarespace 6//v6//EN
BEGIN:VEVENT
UID:5ca9572f9140b7d3bde4f7cb@squarespace.com
DTSTAMP:20190902T044014Z
DTSTART:20200221T150000Z
DTEND:20200223T220000Z
SUMMARY:Reiki Master Level 3a Training and Retreat
GEO:-26.321598;152.872652
LOCATION:The Habitat Retreat\, 15 Sallwood Court\, Pinbarren\, QLD\, 4568\, 
 Australia
END:VEVENT
END:VCALENDAR
