BEGIN:VCALENDAR
VERSION:2.0
PRODID:-//Squarespace Inc/Squarespace 6//v6//EN
BEGIN:VEVENT
UID:5a24c1ad8165f50677110fbf@squarespace.com
DTSTAMP:20190407T014935Z
DTSTART:20190323T133000Z
DTEND:20190324T203000Z
SUMMARY:Reiki Master Level 3a Training and Retreat
GEO:-26.321598;152.872652
LOCATION:The Habitat Retreat\, 15 Sallwood Court\, Pinbarren\, QLD\, 4568\, 
 Australia
END:VEVENT
END:VCALENDAR
