BEGIN:VCALENDAR
VERSION:2.0
PRODID:-//Squarespace Inc/Squarespace 6//v6//EN
BEGIN:VEVENT
UID:5b70baed70a6ad48d1abfcae@squarespace.com
DTSTAMP:20191029T213210Z
DTSTART:20191115T230000Z
DTEND:20191116T020000Z
SUMMARY:Kirtan at the Habitat
GEO:-26.320899;152.870965
LOCATION:the Habitat Retreat\, 15 Sallwood Court\, Pinbarren\, QLD\, 4568\, 
 Australia
END:VEVENT
END:VCALENDAR
