BEGIN:VCALENDAR
VERSION:2.0
PRODID:-//Squarespace Inc/Squarespace 6//v6//EN
BEGIN:VEVENT
UID:5d71c06852c49f0001427769@squarespace.com
DTSTAMP:20190906T021847Z
DTSTART:20191026T120000Z
DTEND:20191027T200000Z
SUMMARY:Working with Yin Yoga Retreat
GEO:-26.335;152.849
LOCATION:the habitat retreat\, 15\, Pinbarren\, Australia
END:VEVENT
END:VCALENDAR
