BEGIN:VCALENDAR
VERSION:2.0
PRODID:-//Squarespace Inc/Squarespace 6//v6//EN
BEGIN:VEVENT
UID:5d6c9dac18a8d50001ae6ec6@squarespace.com
DTSTAMP:20190902T044950Z
DTSTART:20191101T140000Z
DTEND:20191104T060000Z
SUMMARY:Reiki Master Teacher Training Retreat
END:VEVENT
END:VCALENDAR
