BEGIN:VCALENDAR
VERSION:2.0
PRODID:-//Squarespace Inc/Squarespace 6//v6//EN
BEGIN:VEVENT
UID:5b70bc316d2a737525765eb4@squarespace.com
DTSTAMP:20200715T043702Z
DTSTART:20200321T223000Z
DTEND:20210320T203000Z
SUMMARY:350 hr Level 1 Yoga Teacher Training -March 2020
END:VEVENT
END:VCALENDAR
