BEGIN:VCALENDAR
VERSION:2.0
PRODID:-//Squarespace Inc/Squarespace 6//v6//EN
BEGIN:VEVENT
UID:5c22c4110ebbe88acf305ecc@squarespace.com
DTSTAMP:20191029T213447Z
DTSTART:20191207T150000Z
DTEND:20191208T200000Z
SUMMARY:Reiki Level 2 Course
GEO:-26.417816;153.043549
LOCATION:yogawave yoga studio\, 59 Rene Street\, Noosaville\, QLD\, 4566\, 
 Australia
END:VEVENT
END:VCALENDAR
