BEGIN:VCALENDAR
VERSION:2.0
PRODID:-//Squarespace Inc/Squarespace 6//v6//EN
BEGIN:VEVENT
UID:5ca94bc4e5e5f0b640be8868@squarespace.com
DTSTAMP:20190430T011051Z
DTSTART:20190518T133000Z
DTEND:20190519T203000Z
SUMMARY:Finding Balance Yoga Retreat May 18th &amp\; 19th 2019
GEO:-26.320899;152.870965
LOCATION:the habitat Retreat\, 15 Sallwood Court\, Pinbarren\, QLD\, 4568\, 
 Australia
END:VEVENT
END:VCALENDAR
