BEGIN:VCALENDAR
VERSION:2.0
PRODID:-//Squarespace Inc/Squarespace 6//v6//EN
BEGIN:VEVENT
UID:5f0e83a652eb9741322e4334@squarespace.com
DTSTAMP:20200715T043305Z
DTSTART:20200808T120000Z
DTEND:20200808T200000Z
SUMMARY:Yin Yoga Day Retreat
GEO:-26.320899;152.870965
LOCATION:The Habitat Retreat\, 15 Sallwood Court\, Pinbarren
END:VEVENT
END:VCALENDAR
