BEGIN:VCALENDAR
VERSION:2.0
PRODID:-//Squarespace Inc/Squarespace 6//v6//EN
BEGIN:VEVENT
UID:58d9ee4a9de4bb3d0fad911f@squarespace.com
DTSTAMP:20191029T213308Z
DTSTART:20191031T140000Z
DTEND:20191107T080000Z
SUMMARY:Reiki Level 1 Training Course 
GEO:-26.417739;153.043637
LOCATION:Yogawave Yoga Studio\, 59 Rene Street\, Noosaville\, QLD\, 4566\, 
 Australia
END:VEVENT
END:VCALENDAR
