BEGIN:VCALENDAR
VERSION:2.0
PRODID:-//Squarespace Inc/Squarespace 6//v6//EN
BEGIN:VEVENT
UID:5796f9c4ff7c508d10dc132c@squarespace.com
DTSTAMP:20191002T020118Z
DTSTART:20191022T150000Z
DTEND:20191112T053000Z
SUMMARY:Learn to Meditate Course
GEO:-26.417816;153.043549
LOCATION:yogawave yoga studio\, 59 Rene Street\, Noosaville\, QLD\, 4566\, 
 Australia
END:VEVENT
END:VCALENDAR
