BEGIN:VCALENDAR
VERSION:2.0
PRODID:-//Squarespace Inc/Squarespace 6//v6//EN
BEGIN:VEVENT
UID:57e3384af5e2319843c0f25f@squarespace.com
DTSTAMP:20170106T015708Z
DTSTART:20170121T143000Z
DTEND:20170121T200000Z
SUMMARY:Open Day
GEO:-26.321598;152.872652
LOCATION:The Habitat Retreat\, 15 Sallwood Court\, Pinbarren\, QLD\, 4568\, 
 Australia
END:VEVENT
END:VCALENDAR
